BEGIN:VCALENDAR
VERSION:2.0
PRODID:icalendar-ruby
CALSCALE:GREGORIAN
METHOD:PUBLISH
BEGIN:VEVENT
DTSTAMP:20260421T180710Z
UID:11-2723155@southerwinbaptist.org
DTSTART:20260913T130000Z
DTEND:20260913T133000Z
CLASS:PUBLIC
CREATED:20260421T122659
DESCRIPTION:
LAST-MODIFIED:20260421T122659
LOCATION:144 Old Cut Off Road\, Erwin\, NC 28339
SUMMARY:Time of Prayer
URL;VALUE=URI:https://southerwinbaptist.org/events/time-of-prayer/2026-09-1
 3
END:VEVENT
END:VCALENDAR
