BEGIN:VCALENDAR
VERSION:2.0
PRODID:icalendar-ruby
CALSCALE:GREGORIAN
METHOD:PUBLISH
BEGIN:VEVENT
DTSTAMP:20260422T010650Z
UID:11-2727885@southerwinbaptist.org
DTSTART:20261018T130000Z
DTEND:20261018T133000Z
CLASS:PUBLIC
CREATED:20260421T202034
DESCRIPTION:
LAST-MODIFIED:20260421T202034
LOCATION:144 Old Cut Off Road\, Erwin\, NC 28339
SUMMARY:Time of Prayer
URL;VALUE=URI:https://southerwinbaptist.org/events/time-of-prayer/2026-10-1
 8
END:VEVENT
END:VCALENDAR
